2.43840000
0.00000000
0.00000000
-2.43840000
536597.12078444
5303144.76235864
