2.43840000
0.00000000
0.00000000
-2.43840000
564661.07826963
5303444.54794868
