2.43840000
0.00000000
0.00000000
-2.43840000
546197.47593226
5275446.77365008
