2.43840000
0.00000000
0.00000000
-2.43840000
564976.82652526
5275659.68211841
