2.43840000
0.00000000
0.00000000
-2.43840000
565290.66042910
5247872.68458640
