2.43840000
0.00000000
0.00000000
-2.43840000
499237.94743374
5233499.87806378
