2.43840000
0.00000000
0.00000000
-2.43840000
527616.61422072
5233614.94751825
