2.43840000
0.00000000
0.00000000
-2.43840000
508719.86132786
5219631.50372156
