2.43840000
0.00000000
0.00000000
-2.43840000
537160.83555932
5219794.31814988
