2.43840000
0.00000000
0.00000000
-2.43840000
573826.49706393
5317467.17244768
