2.43840000
0.00000000
0.00000000
-2.43840000
583152.08112678
5317610.89679011
