2.43840000
0.00000000
0.00000000
-2.43840000
592700.11255244
5303878.20993218
