2.43840000
0.00000000
0.00000000
-2.43840000
639764.28672362
5291014.69246812
