2.43840000
0.00000000
0.00000000
-2.43840000
583757.56775538
5275934.64183584
