2.43840000
0.00000000
0.00000000
-2.43840000
602786.22694800
5262378.39081232
