2.43840000
0.00000000
0.00000000
-2.43840000
612198.46588962
5262568.95553002
