2.43840000
0.00000000
0.00000000
-2.43840000
640437.90261152
5263231.51469908
