2.43840000
0.00000000
0.00000000
-2.43840000
584159.26505096
5248151.19515860
