2.43840000
0.00000000
0.00000000
-2.43840000
574901.79456297
5234114.71297409
