2.43840000
0.00000000
0.00000000
-2.43840000
603275.62911906
5234595.77523911
