2.43840000
0.00000000
0.00000000
-2.43840000
641107.38925200
5235448.34595698
