2.43840000
0.00000000
0.00000000
-2.43840000
657736.84313487
5319315.54391578
