2.43840000
0.00000000
0.00000000
-2.43840000
685711.01145593
5320201.66246590
