2.43840000
0.00000000
0.00000000
-2.43840000
667465.31066146
5305704.67538081
