2.43840000
0.00000000
0.00000000
-2.43840000
658500.81726101
5291534.00783081
