2.43840000
0.00000000
0.00000000
-2.43840000
695970.87630174
5292748.98044568
