2.43840000
0.00000000
0.00000000
-2.43840000
649850.68671149
5263482.68864233
