2.43840000
0.00000000
0.00000000
-2.43840000
678087.14656051
5264327.23524577
