2.43840000
0.00000000
0.00000000
-2.43840000
650206.93619956
5249592.75660870
