2.438400
0.000000
0.000000
-2.438400
678236.749822
5250516.483731
