2.438400
0.000000
0.000000
-2.438400
697295.725531
5251075.769368
