2.43840000
0.00000000
0.00000000
-2.43840000
706814.08200590
5251419.01957741
