2.43840000
0.00000000
0.00000000
-2.43840000
707306.58510939
5237527.65247669
