2.43840000
0.00000000
0.00000000
-2.43840000
660399.31224324
5222075.78996328
