2.43840000
0.00000000
0.00000000
-2.43840000
669877.28279546
5222360.95710582
