2.43840000
0.00000000
0.00000000
-2.43840000
688837.80780124
5222968.92261406
