2.43840000
0.00000000
0.00000000
-2.43840000
717275.80653138
5223995.40747912
