2.43840000
0.00000000
0.00000000
-2.43840000
518295.71204348
5191889.09514446
