2.43840000
0.00000000
0.00000000
-2.43840000
508804.29489709
5164071.95824669
