2.43840000
0.00000000
0.00000000
-2.43840000
518380.51137363
5164109.96283244
