2.438400
0
0
-2.438400
537422.882160
5164180.586664
