2.43840000
0.00000000
0.00000000
-2.43840000
566223.20031666
5164532.21025909
