2.43840000
0.00000000
0.00000000
-2.43840000
556914.99405805
5136640.52615429
