2.43840000
0.00000000
0.00000000
-2.43840000
518507.04722233
5122444.12161285
