2.43840000
0.00000000
0.00000000
-2.43840000
547410.32779053
5122652.73677359
