2.43840000
0.00000000
0.00000000
-2.43840000
557044.73812241
5122752.64960445
