2.43840000
0.00000000
0.00000000
-2.43840000
499242.15269337
5108491.09936661
