2.43840000
0.00000000
0.00000000
-2.43840000
537861.65554184
5108678.18175581
