2.43840000
0.00000000
0.00000000
-2.43840000
575434.31676419
5192444.70511287
