2.43840000
0.00000000
0.00000000
-2.43840000
594920.91463121
5164971.84540789
